BEGIN:VCALENDAR
VERSION:2.0
PRODID:-//https://amibike.com///NONSGML kigkonsult.se iCalcreator 2.10.15//
METHOD:PUBLISH
BEGIN:VEVENT
UID:20260421T104000CEST-5467Jb0mFV@https://amibike.com/
DTSTAMP:20260421T084000Z
DESCRIPTION:Le date e le località previste per la prima fase del corso Maes
 tri:\nPuoi scegliere di partecipare ad una delle tre prime fasi in funzion
 e delle tue preferenze\, dei tuoi impegni e della distanza: il programma d
 el corso sarà il medesimo\, mentre le successive altre fasi saranno nelle 
 date e località indicate.\n\nPesaro-Urbino (PU) dal 4 al 6 aprile\nAmpezzo
  (ID) dal 16 al 18 maggio\nFanano&nbsp\; (MO) dal 20 al 22 giugno\n\nSecon
 da Fase (e fasi successive: solo per coloro che hanno partecipato alla pri
 ma fase)\n\nPavullo (MO) dal 17 al 20 giugno\n\nTerza Fase:\n\nLocalità da
  definire : dal 19 al 21 settembre\n\nQuarta Fase:\n\nPradel di Molveno (T
 N): 09-12 ottobre\n\n{loadposition slide_maestri}\n{jutabs loadcontent='ar
 ticleid:423' theme='style02' width='100%' minwidth='0' maxwidth='none' hei
 ght='auto' heighttabs='auto' defaultitem='0' maxitems='0' skipemptyitems='
 false' history='false' changetab='click' initialeffect='true' ajax='true' 
 duration='400' tabeffect='slidehorizontal' currentitemeasing='linear' next
 itemeasing='linear' swipetouch='true' triggerwindowresize='false' slidetot
 ab='true' view='introtext' parseplugin='true' type='tab' position='top' ta
 balign='left' tabscroll='true'}{/jutabs}\n&nbsp\; https://amibike.com/Even
 to/461-corso-per-maestro-di-mountain-bike-e-bike-e-mtb-a-pesaro-urbino-pu-
 dal-4-al-6-aprile.html
DTSTART:20250404T080400Z
DTEND:20250406T180438Z
LOCATION:Hotel da definire ()
SUMMARY:Corso per Maestro di Mountain Bike / E-Bike (E-Mtb) a Pesaro-Urbino
  (PU) dal 4 al 6 aprile
URL:https://amibike.com/Evento/461-corso-per-maestro-di-mountain-bike-e-bik
 e-e-mtb-a-pesaro-urbino-pu-dal-4-al-6-aprile.html
END:VEVENT
END:VCALENDAR
